BEGIN:VCALENDAR
VERSION:2.0
PRODID:-//Office for International Student Engagement//NONSGML v1.0//EN
CALSCALE:GREGORIAN
METHOD:PUBLISH
BEGIN:VEVENT
UID:602-0
SUMMARY:Tournament Tuesday: Card Games
DTSTART:20250311T180000Z
DTEND:20250311T200000Z
DTSTAMP:20241210T204312Z
LAST-MODIFIED:20250307T153200Z
SEQUENCE:0
LOCATION:Women&#8217;s Building, OISE &#8211; Suite 102
DESCRIPTION:\n\n\n\n\nGet ready for Tournament Tuesday: Card Games on March 11th\, from 1-3 PM at the OISE suite – it’s time to shuffle up and deal! Whether you're a poker pro or a casual card player\, come challenge your friends and put your skills to the test. The winner will walk away with a Corner 17 boba and bragging rights\, so don’t miss out on the fun!\n
END:VEVENT
END:VCALENDAR